Workbook

Sheet Costes generales
A1: Producto | B1: Marca | C1: Coste | D1: Cantidad (g) | E1: Coste al kg | F1: Unidades | G1: Cantidad usada (g) | H1: Coste por uso
A2: Fruta Zumit | B2: Zumit | C2: 1.6 | D2: 150 | E2: =1000/D2*C2 -> 10.666667 | F2: 20 | G2: 1 | H2: 1.6
A3: Zumo de manzana (L) | B3: Aldi | C3: 1.19 | D3: 1500 | E3: =1000/D3*C3 -> 0.79333333 | G3: 250 | H3: =E3*G3/1000 -> 0.19833333
A4: Helado (L) | B4: Otto | C4: 8 | D4: 1000 | E4: =1000/D4*C4 -> 8 | G4: 100 | H4: =E4*G4/1000 -> 0.8
A5: Helado Pistacho (L) | B5: Otto | C5: 11 | D5: 1000 | E5: =1000/D5*C5 -> 11 | G5: 100 | H5: =E5*G5/1000 -> 1.1
A6: Tostas | B6: Lidl | C6: 0.99 | D6: 250 | E6: =1000/D6*C6 -> 3.96 | F6: 25 | G6: 1 | H6: =C6/F6*G6 -> 0.0396
A7: Pan de espelta | B7: Dominik | C7: 2.25 | D7: 500 | E7: =1000/D7*C7 -> 4.5 | F7: 8 | G7: 2 | H7: =C7/F7*G7 -> 0.5625
A8: Crema de cacahuete | B8: Aldi | C8: 2.99 | D8: 500 | E8: =1000/D8*C8 -> 5.98 | G8: 15 | H8: =E8*G8/1000 -> 0.0897
A9: Confitura de arándano | B9: Helios | C9: 3.03 | D9: 330 | E9: =1000/D9*C9 -> 9.1818182 | G9: 10 | H9: =E9*G9/1000 -> 0.091818182
A10: Mermelada de arándanos | B10: Aldi | C10: 1.99 | D10: 425 | E10: =1000/D10*C10 -> 4.6823529 | G10: 10 | H10: =E10*G10/1000 -> 0.046823529
A11: Mermelada de fresa | B11: Aldi | C11: 1.47 | D11: 425 | E11: =1000/D11*C11 -> 3.4588235 | G11: 10 | H11: =E11*G11/1000 -> 0.034588235
A12: Mermelada de melocotón | B12: Aldi | C12: 2.29 | D12: 750 | E12: =1000/D12*C12 -> 3.0533333 | G12: 10 | H12: =E12*G12/1000 -> 0.030533333
A13: Humus | B13: Mercadona | C13: 1.1 | D13: 250 | E13: =1000/D13*C13 -> 4.4 | G13: 10 | H13: =E13*G13/1000 -> 0.044
A14: Mozzarella | B14: Tecali | C14: 1 | D14: 125 | E14: =1000/D14*C14 -> 8 | G14: 80 | H14: =E14*G14/1000 -> 0.64
A15: Tomate | B15: Toña | C15: 2.4 | D15: 1000 | E15: =1000/D15*C15 -> 2.4 | G15: 30 | H15: =E15*G15/1000 -> 0.072
A16: Lechuga | B16: Toña | C16: 3.5 | D16: 1000 | E16: 3.5 | G16: 15 | H16: =E16*G16/1000 -> 0.0525
A17: Col y zanahoria ralladas | B17: Dino | C17: 1.59 | D17: 250 | E17: =1000/D17*C17 -> 6.36 | F17: 12 | G17: 20 | H17: =E17*G17/1000 -> 0.1272
A18: Brotes | B18: Amazon | C18: 23 | D18: 1000 | E18: =1000/D18*C18 -> 23 | G18: 0.5 | H18: =E18*G18/1000 -> 0.0115
A19: Guacamole | B19: Mercadona | C19: 3.95 | D19: 500 | E19: =1000/D19*C19 -> 7.9 | G19: 15 | H19: =E19*G19/1000 -> 0.1185
A20: Cottage cheese | B20: Mercadona | C20: 1.35 | D20: 200 | E20: =1000/D20*C20 -> 6.75 | G20: 30 | H20: =E20*G20/1000 -> 0.2025
A21: Açaí | B21: Calemi | C21: 1.67 | D21: 100 | E21: =1000/D21*C21 -> 16.7 | F21: 64 | G21: 1 | H21: =C21*G21 -> 1.67
A22: Yogur | B22: Mercadona | C22: 1.7 | D22: =125*6 -> 750 | E22: =1000/D22*C22 -> 2.2666667 | F22: 6 | G22: 125 | H22: =E22*G22/1000 -> 0.28333333
A23: Platano | B23: Toña | C23: 2.2 | D23: 1000 | E23: =1000/D23*C23 -> 2.2 | F23: 1 | G23: 90 | H23: =E23*G23/1000 -> 0.198
A24: Limón | B24: Toña | C24: 1.75 | D24: 1000 | E24: =1000/D24*C24 -> 1.75 | F24: 1 | G24: 50 | H24: =E24*G24/1000 -> 0.0875
A25: Naranja | B25: Justo | C25: 1.1 | D25: 1000 | E25: =1000/D25*C25 -> 1.1 | G25: 250 | H25: =E25*G25/1000 -> 0.275
A26: Muesli | B26: Mercadona | C26: 2 | D26: 500 | E26: =1000/D26*C26 -> 4 | G26: 15 | H26: =E26*G26/1000 -> 0.06
A27: Miel | B27: Aldi | C27: 2.49 | D27: 350 | E27: =1000/D27*C27 -> 7.1142857 | G27: 5 | H27: =E27*G27/1000 -> 0.035571429
A28: Gofio | B28: La Piña | C28: 1.1 | D28: 500 | E28: =1000/D28*C28 -> 2.2 | G28: 30 | H28: =E28*G28/1000 -> 0.066
A29: Nueces | B29: Mercadona | C29: 2.55 | D29: 200 | E29: =1000/D29*C29 -> 12.75 | G29: 10 | H29: =E29*G29/1000 -> 0.1275
A30: Mix de semillas | B30: Aldi | C30: 3 | D30: 275 | E30: =1000/D30*C30 -> 10.909091 | G30: 5 | H30: =E30*G30/1000 -> 0.054545455
A31: Mix de lino y chia | B31: Aldi | C31: 2.85
A32: Higo Tinto | B32: Ledesma | C32: 27 | D32: 200 | E32: =1000/D32*C32 -> 135 | G32: 5 | H32: =E32*G32/1000 -> 0.675
A33: Espirulina | B33: Microgreen | D33: 100
A34: Sirope de Palma | B34: La Encantadora | C34: 12 | D34: 500 | E34: =1000/D34*C34 -> 24 | G34: 5 | H34: =E34*G34/1000 -> 0.12
A35: Canela | B35: Especias el Morito | C35: 24 | D35: 1000 | E35: =1000/D35*C35 -> 24 | G35: 1 | H35: =E35*G35/1000 -> 0.024
A36: Ajo | B36: Especias el Morito | C36: 19 | D36: 1000 | E36: =1000/D36*C36 -> 19 | G36: 3 | H36: =E36*G36/1000 -> 0.057
A37: Jengibre | B37: Especias el Morito | C37: 25 | D37: 1000 | E37: =1000/D37*C37 -> 25 | G37: 3 | H37: =E37*G37/1000 -> 0.075
A38: Oregano | B38: Pipas Ten | C38: 1.15 | D38: 25 | E38: =1000/D38*C38 -> 46 | G38: 0.2 | H38: =E38*G38/1000 -> 0.0092
A39: Aceite de Oliva | B39: Diosas de Abril | C39: 6.5 | D39: 1000 | E39: =1000/D39*C39 -> 6.5 | G39: 3 | H39: =E39*G39/1000 -> 0.0195
A40: Sal | B40: Teneguía | C40: 0.4 | D40: 100 | E40: =1000/D40*C40 -> 4 | G40: 1 | H40: =E40*G40/1000 -> 0.004
A42: Café soluble | B42: Nestlé | C42: 7.79 | D42: 200 | E42: =1000/D42*C42 -> 38.95 | F42: 200 | G42: 2 | H42: =E42*G42/1000 -> 0.0779
A43: Caffè italiano | B43: Borbone | C43: 24.6 | D43: 1000 | E43: =1000/D43*C43 -> 24.6 | G43: 8 | H43: =E43*G43/1000 -> 0.1968
A44: Té negro | B44: Pompadour | C44: 4.19 | D44: 100 | F44: 100 | G44: 1 | H44: =C44/D44 -> 0.0419
A45: Té verde | B45: Pompadour | C45: 4.19 | D45: 100 | F45: 100 | G45: 1 | H45: =C45/D45 -> 0.0419
A46: Manzanilla | B46: Pompadour | C46: 4.19 | D46: 100 | F46: 100 | G46: 1 | H46: =C46/D46 -> 0.0419
A47: Poleo-Menta | B47: Pompadour | C47: 4.19 | D47: 100 | F47: 100 | G47: 1 | H47: =C47/D47 -> 0.0419
A48: Infusión frutos rojos | B48: Aldi | C48: 1.69 | D48: 25 | F48: 100 | G48: 1 | H48: =C48/D48 -> 0.0676
A49: Leche de vaca entera | B49: Granja Flor Valsequillo | C49: 1.23 | D49: 1000 | E49: =1000/D49*C49 -> 1.23 | G49: 20 | H49: =E49*G49/1000 -> 0.0246
A50: Azúcar morena | B50: Dulzán canarias | C50: 3 | D50: 1000 | E50: =1000/D50*C50 -> 3 | G50: 6 | H50: =E50*G50/1000 -> 0.018
A52: Plato de cartón | B52: Makro | C52: 5.85 | D52: 100 | F52: 100 | G52: 1 | H52: =C52/D52 -> 0.0585
A53: Bolsas sandwich | B53: GarciaDePou | C53: 4.86 | D53: 100 | F53: 100 | G53: 1 | H53: =C53/D53 -> 0.0486
A54: Servilletas 20x20 | B54: GarciaDePou | C54: 1.03 | D54: 100 | F54: 100 | G54: 1 | H54: =C54/D54 -> 0.0103
A55: Servilletas mini helados | B55: GarciaDePou | C55: 0.84 | D55: 200 | F55: 200 | G55: 1 | H55: =C55/D55 -> 0.0042
A56: Picks Golf bamboo | B56: GarciaDePou | C56: 1.28 | D56: 100 | F56: 100 | G56: 1 | H56: =C56/D56 -> 0.0128
A57: Mini tenedores | B57: GarciaDePou | C57: 1.6 | D57: 200 | F57: 200 | G57: 1 | H57: =C57/D57 -> 0.008
A58: Cucharas | B58: Makro | C58: 3.45 | D58: 100 | F58: 100 | G58: 1 | H58: =C58/D58 -> 0.0345
A59: Cañitas blancas | B59: GarciaDePou | C59: 3.9 | D59: 250 | F59: 250 | G59: 1 | H59: =C59/D59 -> 0.0156
A60: Bolsas blancas | B60: GarciaDePou | C60: 77.68 | D60: 1000 | F60: 1000 | G60: 1 | H60: =C60/D60 -> 0.07768
A61: Cajita tostas | B61: GarciaDePou | C61: 10.84 | D61: 50 | F61: 50 | G61: 1 | H61: =C61/D61 -> 0.2168
A62: Tapa vasito café | B62: GarciaDePou | C62: =2.94+3% -> 2.97 | D62: 100 | F62: 100 | G62: 1 | H62: =C62/D62 -> 0.0297
A63: Tapa blanca 240 ml | B63: GarciaDePou | C63: 2.16 | D63: 50 | F63: 50 | G63: 1 | H63: =C63/D63 -> 0.0432
A64: Tapa blanca bebidor | B64: GarciaDePou | C64: 3.75 | D64: 100 | F64: 100 | G64: 1 | H64: =C64/D64 -> 0.0375
A65: Tapa traslucida | B65: GarciaDePou | C65: 2.67 | D65: 100 | F65: 100 | G65: 1 | H65: =C65/D65 -> 0.0267
A66: Palito para mezclar | B66: Makro | C66: 3.9 | D66: 1000 | F66: 1000 | G66: 1 | H66: =C66/D66 -> 0.0039
A67: Vasito cafè 110ml | B67: GarciaDePou | C67: =1.29+3% -> 1.32 | D67: 50 | F67: 50 | G67: 1 | H67: =C67/D67 -> 0.0264
A68: Vaso 240 ml | B68: GarciaDePou | C68: 2.17 | D68: 50 | F68: 50 | G68: 1 | H68: =C68/D68 -> 0.0434
A69: Vaso 360 ml | B69: GarciaDePou | C69: 3.29 | D69: 50 | F69: 50 | G69: 1 | H69: =C69/D69 -> 0.0658
A70: Vaso 360 ml | B70: Canpaplas | C70: 2.4 | D70: 50 | F70: 50 | G70: 1 | H70: =C70/D70 -> 0.048
A71: Vaso 200 ml | B71: Canpaplas | C71: 2.45 | D71: 100 | F71: 100 | G71: 1 | H71: =C71/D71 -> 0.0245
A72: Vaso helados grande | B72: Isidro González Tenerife | C72: 3.65 | D72: 42 | F72: 42 | G72: 1 | H72: =C72/D72 -> 0.086904762
A73: Vaso helados pequeño | B73: Isidro González Tenerife | C73: 3.5 | D73: 42 | F73: 42 | G73: 1 | H73: =C73/D73 -> 0.083333333
A74: Cono | B74: Isidro González Tenerife | C74: 41.95 | D74: 360 | F74: 360 | G74: 1 | H74: =C74/D74 -> 0.11652778
A75: Cucharita helado beige | B75: Isidro González Tenerife | C75: 16.5 | D75: 1000 | E75: =1000/D75*C75 -> 16.5 | F75: 625 | G75: 1 | H75: =E75/F75 -> 0.0264
A76: Cubeta 500 ml | B76: Calemi | C76: 62.1 | D76: 50 | F76: 50 | G76: 1 | H76: =C76/D76 -> 1.242
A77: Cubeta 1 L | B77: Calemi | C77: 97.75 | D77: 50 | F77: 50 | G77: 1 | H77: =C77/D77 -> 1.955
A78: Tapa cubeta 500 ml | B78: Calemi | C78: 62.1 | D78: 100 | F78: 100 | G78: 1 | H78: =C78/D78 -> 0.621
A79: Tapa cubeta 1 L | B79: Calemi | C79: 97.75 | D79: 100 | F79: 100 | G79: 1 | H79: =C79/D79 -> 0.9775

Sheet Costes productos
A1: Smoothies veganos | B1: Coste Zumit | C1: Coste Açaí drink | D1: Coste Gofio canario | E1: Coste zumo naranja pequeño | F1: Coste zumo naranja grande | G1: Coste Zumo del día | I1: Multiplicador coste-precio
A2: Zumit | B2: ='Costes generales'!H2 -> 1.6 | G2: ='Costes generales'!H2/3 -> 0.53333333 | I2: 4
A3: Açaí | C3: ='Costes generales'!H21 -> 1.67
A4: Gofio | D4: ='Costes generales'!H28 -> 0.066
A5: Platano | C5: ='Costes generales'!H23 -> 0.198 | D5: ='Costes generales'!H23 -> 0.198
A6: Naranja | E6: ='Costes generales'!H25*2 -> 0.55 | F6: ='Costes generales'!H25*3.5 -> 0.9625
A7: Zumo de manzana | B7: ='Costes generales'!H3 -> 0.19833333 | C7: ='Costes generales'!H3 -> 0.19833333 | D7: ='Costes generales'!H3 -> 0.19833333 | G7: ='Costes generales'!H3*300/250/3 -> 0.079333333
A8: Vaso 360 ml | B8: ='Costes generales'!H69 -> 0.0658 | C8: ='Costes generales'!H69 -> 0.0658 | D8: ='Costes generales'!H69 -> 0.0658 | F8: ='Costes generales'!H69 -> 0.0658
A9: Vasito 240 ml | E9: ='Costes generales'!H71 -> 0.0245 | G9: ='Costes generales'!H71 -> 0.0245
A10: Cañita | B10: ='Costes generales'!H59 -> 0.0156 | C10: ='Costes generales'!H59 -> 0.0156 | D10: ='Costes generales'!H59 -> 0.0156 | E10: ='Costes generales'!H59 -> 0.0156 | F10: ='Costes generales'!H59 -> 0.0156
A11: Tapa vaso | B11: ='Costes generales'!H65 -> 0.0267 | C11: ='Costes generales'!H65 -> 0.0267 | D11: ='Costes generales'!H65 -> 0.0267 | E11: ='Costes generales'!H65 -> 0.0267 | F11: ='Costes generales'!H65 -> 0.0267
A12: Total | B12: =SUM(B2:B11) -> 1.9064333 | C12: =SUM(C2:C11) -> 2.1744333 | D12: =SUM(D2:D11) -> 0.57043333 | E12: =SUM(E2:E11) -> 0.6168 | F12: =SUM(F2:F11) -> 1.0706 | G12: =SUM(G2:G11) -> 0.63716667
A13: Precio aconsejado | B13: =B12*$I$2 -> 7.6257333 | C13: =C12*$I$2 -> 8.6977333 | D13: =D12*$I$2 -> 2.2817333 | E13: =E12*$I$2 -> 2.4672 | F13: =F12*$I$2 -> 4.2824 | G13: =G12*$I$2 -> 2.5486667
A14: Precio real | B14: 4.8 | C14: 5.5 | D14: 5.5 | E14: 1.9 | F14: 4 | G14: 4
A15: Margen | B15: =B14-B12 -> 2.8935667 | C15: =C14-C12 -> 3.3255667 | D15: =D14-D12 -> 4.9295667 | E15: =E14-E12 -> 1.2832 | F15: =F14-F12 -> 2.9294 | G15: =G14-G12 -> 3.3628333
A16: Margen relativo | B16: =B15/B14 -> 0.60282639 | C16: =C15/C14 -> 0.60464848 | D16: =D15/D14 -> 0.89628485 | E16: =E15/E14 -> 0.67536842 | F16: =F15/F14 -> 0.73235 | G16: =G15/G14 -> 0.84070833
A19: Infusiones saludables | B19: Coste café espresso | C19: Coste macchiato | D19: Coste caffè-latte | E19: Coste americano | F19: Coste cappuccino | G19: Coste tés | H19: Coste Frutos del bosque
A20: Infusión | G20: ='Costes generales'!H44 -> 0.0419 | H20: ='Costes generales'!H48 -> 0.0676
A21: Cafè | B21: ='Costes generales'!H43 -> 0.1968 | C21: ='Costes generales'!H43 -> 0.1968 | D21: ='Costes generales'!H43 -> 0.1968 | E21: ='Costes generales'!H43 -> 0.1968 | F21: ='Costes generales'!H43 -> 0.1968
A22: Leche | C22: ='Costes generales'!H49 -> 0.0246 | D22: ='Costes generales'!H49*3 -> 0.0738 | F22: ='Costes generales'!H49*4 -> 0.0984
A23: Vasito cafè 150 ml | B23: ='Costes generales'!H67 -> 0.0264 | C23: ='Costes generales'!H67 -> 0.0264
A24: Vaso blanco 240 ml | D24: ='Costes generales'!H68 -> 0.0434 | E24: ='Costes generales'!H68 -> 0.0434 | F24: ='Costes generales'!H68 -> 0.0434
A25: Vaso blanco de 360 ml | G25: ='Costes generales'!H69 -> 0.0658 | H25: ='Costes generales'!H69 -> 0.0658
A26: Tapa vasito café | B26: ='Costes generales'!H62 -> 0.0297 | C26: ='Costes generales'!H62 -> 0.0297
A27: Tapa blanca 240 ml | D27: ='Costes generales'!H63 -> 0.0432 | E27: ='Costes generales'!H63 -> 0.0432 | F27: ='Costes generales'!H63 -> 0.0432
A28: Tapa blanca 360 ml | G28: ='Costes generales'!H64 -> 0.0375 | H28: ='Costes generales'!H64 -> 0.0375
A29: Palito para mezclar | B29: ='Costes generales'!H66 -> 0.0039 | C29: ='Costes generales'!H66 -> 0.0039 | D29: ='Costes generales'!H66 -> 0.0039 | E29: ='Costes generales'!H66 -> 0.0039 | F29: ='Costes generales'!H66 -> 0.0039 | G29: ='Costes generales'!H66 -> 0.0039 | H29: ='Costes generales'!H66 -> 0.0039
A30: Azúcar morena | B30: ='Costes generales'!H50 -> 0.018 | C30: ='Costes generales'!H50 -> 0.018 | D30: ='Costes generales'!H50 -> 0.018 | E30: ='Costes generales'!H50 -> 0.018 | F30: ='Costes generales'!H50 -> 0.018 | G30: ='Costes generales'!H50 -> 0.018 | H30: ='Costes generales'!H50 -> 0.018
A31: Total | B31: =SUM(B20:B30) -> 0.2748 | C31: =SUM(C20:C30) -> 0.2994 | D31: =SUM(D20:D30) -> 0.3791 | E31: =SUM(E20:E30) -> 0.3053 | F31: =SUM(F20:F30) -> 0.4037 | G31: =SUM(G20:G30) -> 0.1671 | H31: =SUM(H20:H30) -> 0.1928
A32: Precio aconsejado | B32: =B31*$I$2 -> 1.0992 | C32: =C31*$I$2 -> 1.1976 | D32: =D31*$I$2 -> 1.5164 | E32: =E31*$I$2 -> 1.2212 | F32: =F31*$I$2 -> 1.6148 | G32: =G31*$I$2 -> 0.6684 | H32: =H31*$I$2 -> 0.7712
A33: Precio real | B33: 1 | C33: 1.1 | D33: 1.3 | E33: 1.5 | F33: 1.5 | G33: 1.5 | H33: 1.5
A34: Margen | B34: =B33-B31 -> 0.7252 | C34: =C33-C31 -> 0.8006 | D34: =D33-D31 -> 0.9209 | E34: =E33-E31 -> 1.1947 | F34: =F33-F31 -> 1.0963 | G34: =G33-G31 -> 1.3329 | H34: =H33-H31 -> 1.3072
A35: Margen relativo | B35: =B34/B33 -> 0.7252 | C35: =C34/C33 -> 0.72781818 | D35: =D34/D33 -> 0.70838462 | E35: =E34/E33 -> 0.79646667 | F35: =F34/F33 -> 0.73086667 | G35: =G34/G33 -> 0.8886 | H35: =H34/H33 -> 0.87146667
A38: Tostas integrales | B38: Coste Humus | C38: Coste Guacamole | D38: Coste Cottage y Arándanos | E38: Coste Platano y Miel | F38: Coste Cacahuete y Mermelada | G38: Coste Cottage y Tomate
A39: Tosta | B39: ='Costes generales'!H6 -> 0.0396 | C39: ='Costes generales'!H6 -> 0.0396 | D39: ='Costes generales'!H6 -> 0.0396 | E39: ='Costes generales'!H6 -> 0.0396 | F39: ='Costes generales'!H6 -> 0.0396 | G39: ='Costes generales'!H6 -> 0.0396
A40: Hummus | B40: ='Costes generales'!H13 -> 0.044
A41: Guacamole | C41: ='Costes generales'!H19 -> 0.1185
A42: Queso Cottage | D42: ='Costes generales'!H20 -> 0.2025 | G42: ='Costes generales'!H20 -> 0.2025
A43: Confitura arándanos | D43: ='Costes generales'!H9 -> 0.091818182
A44: Platano | E44: ='Costes generales'!H23/2 -> 0.099 | F44: ='Costes generales'!H23/2 -> 0.099
A45: Crema cacahuete | F45: ='Costes generales'!H8/2 -> 0.04485
A46: Miel | E46: ='Costes generales'!H27 -> 0.035571429
A47: Mermelada | F47: =AVERAGE('Costes generales'!H10:H12) -> 0.037315033
A48: Tomate | B48: ='Costes generales'!H15 -> 0.072 | C48: ='Costes generales'!H15/2 -> 0.036 | G48: ='Costes generales'!H15/2 -> 0.036
A49: Brotes | B49: ='Costes generales'!H18 -> 0.0115 | C49: ='Costes generales'!H18 -> 0.0115
A50: Nueces | E50: ='Costes generales'!H29 -> 0.1275
A51: Canela | E51: ='Costes generales'!H35 -> 0.024
A52: Mix de semillas | D52: ='Costes generales'!H30 -> 0.054545455 | F52: ='Costes generales'!H30 -> 0.054545455
A53: Oregano | G53: ='Costes generales'!H38 -> 0.0092
A54: Aceite de Oliva | G54: ='Costes generales'!H39 -> 0.0195
A55: Plato de cartón | B55: ='Costes generales'!H52 -> 0.0585 | C55: ='Costes generales'!H52 -> 0.0585 | D55: ='Costes generales'!H52 -> 0.0585 | E55: ='Costes generales'!H52 -> 0.0585 | F55: ='Costes generales'!H52 -> 0.0585 | G55: ='Costes generales'!H52 -> 0.0585
A56: Servilleta | B56: ='Costes generales'!H54 -> 0.0103 | C56: ='Costes generales'!H54 -> 0.0103 | D56: ='Costes generales'!H54 -> 0.0103 | E56: ='Costes generales'!H54 -> 0.0103 | F56: ='Costes generales'!H54 -> 0.0103 | G56: ='Costes generales'!H54 -> 0.0103
A57: Total | B57: =SUM(B39:B56) -> 0.2359 | C57: =SUM(C39:C56) -> 0.2744 | D57: =SUM(D39:D56) -> 0.45726364 | E57: =SUM(E39:E56) -> 0.39447143 | F57: =SUM(F39:F56) -> 0.34411049 | G57: =SUM(G39:G56) -> 0.3756 | H57: =AVERAGE(B57:G57) -> 0.34695759
A58: Precio aconsejado | B58: =B57*$I$2 -> 0.9436 | C58: =C57*$I$2 -> 1.0976 | D58: =D57*$I$2 -> 1.8290545 | E58: =E57*$I$2 -> 1.5778857 | F58: =F57*$I$2 -> 1.3764419 | G58: =G57*$I$2 -> 1.5024
A59: Precio real | B59: 1.9 | C59: 1.9 | D59: 1.9 | E59: 1.9 | F59: 1.9 | G59: 1.9
A60: Margen | B60: =B59-B57 -> 1.6641 | C60: =C59-C57 -> 1.6256 | D60: =D59-D57 -> 1.4427364 | E60: =E59-E57 -> 1.5055286 | F60: =F59-F57 -> 1.5558895 | G60: =G59-G57 -> 1.5244
A61: Margen relativo | B61: =B60/B59 -> 0.87584211 | C61: =C60/C59 -> 0.85557895 | D61: =D60/D59 -> 0.75933493 | E61: =E60/E59 -> 0.79238346 | F61: =F60/F59 -> 0.81888922 | G61: =G60/G59 -> 0.80231579
A64: Sándwiches frescos | B64: Coste Humus | C64: Coste Guacamole | D64: Coste Catemus | E64: Coste Caprese
A65: Pan de espelta integral | B65: ='Costes generales'!H7 -> 0.5625 | C65: ='Costes generales'!H7 -> 0.5625 | D65: ='Costes generales'!H7 -> 0.5625 | E65: ='Costes generales'!H7 -> 0.5625
A66: Hummus | B66: ='Costes generales'!H13*1.5 -> 0.066 | D66: ='Costes generales'!H13 -> 0.044
A67: Guacamole | C67: ='Costes generales'!H19*1.5 -> 0.17775 | D67: ='Costes generales'!H19 -> 0.1185
A68: Mozzarella | E68: ='Costes generales'!H14 -> 0.64
A69: Tomate | B69: ='Costes generales'!H15*1.5 -> 0.108 | C69: ='Costes generales'!H15*1.5 -> 0.108 | D69: ='Costes generales'!H15*1.5 -> 0.108 | E69: ='Costes generales'!H15*1.5 -> 0.108
A70: Lechuga | B70: ='Costes generales'!H16 -> 0.0525 | C70: ='Costes generales'!H16 -> 0.0525 | D70: ='Costes generales'!H16 -> 0.0525 | E70: ='Costes generales'!H16 -> 0.0525
A71: Col y zanahoria ralladas | B71: ='Costes generales'!H17 -> 0.1272 | C71: ='Costes generales'!H17 -> 0.1272 | D71: ='Costes generales'!H17 -> 0.1272
A72: Oregano | E72: ='Costes generales'!H38 -> 0.0092
A73: Aceite de Oliva | E73: ='Costes generales'!H39 -> 0.0195
A74: Sal | E74: ='Costes generales'!H40 -> 0.004
A75: Brotes | B75: ='Costes generales'!H18 -> 0.0115 | C75: ='Costes generales'!H18 -> 0.0115 | D75: ='Costes generales'!H18 -> 0.0115
A76: Plato de cartón | B76: ='Costes generales'!H52 -> 0.0585 | C76: ='Costes generales'!H52 -> 0.0585 | D76: ='Costes generales'!H52 -> 0.0585 | E76: ='Costes generales'!H52 -> 0.0585
A77: Servilleta | B77: ='Costes generales'!H54 -> 0.0103 | C77: ='Costes generales'!H54 -> 0.0103 | D77: ='Costes generales'!H54 -> 0.0103 | E77: ='Costes generales'!H54 -> 0.0103
A78: Bolsita sándwich | B78: ='Costes generales'!H53 -> 0.0486 | C78: ='Costes generales'!H53 -> 0.0486 | D78: ='Costes generales'!H53 -> 0.0486 | E78: ='Costes generales'!H53 -> 0.0486
A79: Total | B79: =SUM(B65:B78) -> 1.0451 | C79: =SUM(C65:C78) -> 1.15685 | D79: =SUM(D65:D78) -> 1.1416 | E79: =SUM(E65:E78) -> 1.5131
A80: Precio aconsejado | B80: =B79*$I$2 -> 4.1804 | C80: =C79*$I$2 -> 4.6274 | D80: =D79*$I$2 -> 4.5664 | E80: =E79*$I$2 -> 6.0524
A81: Precio real | B81: 4.5 | C81: 4.5 | D81: 4.5 | E81: 4.5
A82: Margen | B82: =B81-B79 -> 3.4549 | C82: =C81-C79 -> 3.34315 | D82: =D81-D79 -> 3.3584 | E82: =E81-E79 -> 2.9869
A83: Margen relativo | B83: =B82/B81 -> 0.76775556 | C83: =C82/C81 -> 0.74292222 | D83: =D82/D81 -> 0.74631111 | E83: =E82/E81 -> 0.66375556
A87: Vasos saludables | B87: Coste Yogur | C87: Coste Açaí | D87: Coste Frutita grande | E87: Coste Frutita pequeña
A88: Yogur griego | B88: ='Costes generales'!H22 -> 0.28333333
A89: Açaí | C89: ='Costes generales'!H21 -> 1.67
A90: Fruta | B90: 0.3 | C90: 0.3 | D90: =B90*3 -> 0.9 | E90: =B90*2 -> 0.6
A91: Mix de semillas | B91: ='Costes generales'!H30 -> 0.054545455 | C91: ='Costes generales'!H30 -> 0.054545455
A92: Muesli | B92: ='Costes generales'!H26 -> 0.06 | C92: ='Costes generales'!H26 -> 0.06
A93: Nueces | B93: ='Costes generales'!H29 -> 0.1275 | C93: ='Costes generales'!H29 -> 0.1275
A94: Miel | B94: ='Costes generales'!H27 -> 0.035571429 | C94: ='Costes generales'!H27 -> 0.035571429
A95: Crema de cacahuete | B95: ='Costes generales'!H8/3 -> 0.0299 | C95: ='Costes generales'!H8/3 -> 0.0299
A96: Gofio | B96: ='Costes generales'!H28/5 -> 0.0132 | C96: ='Costes generales'!H28/5 -> 0.0132
A97: Sirope de palma | B97: ='Costes generales'!H34 -> 0.12
A98: Vaso | B98: ='Costes generales'!H69 -> 0.0658 | C98: ='Costes generales'!H69 -> 0.0658 | D98: ='Costes generales'!H69 -> 0.0658
A99: Vasito pequeño | E99: ='Costes generales'!H71 -> 0.0245
A100: Cuchara | B100: ='Costes generales'!H58 -> 0.0345 | C100: ='Costes generales'!H58 -> 0.0345
A101: Mini tenedores | D101: ='Costes generales'!H57 -> 0.008 | E101: ='Costes generales'!H57 -> 0.008
A102: Servilleta | B102: ='Costes generales'!H54 -> 0.0103 | C102: ='Costes generales'!H54 -> 0.0103
A103: Total | B103: =SUM(B88:B90,B98:B102,B93) -> 0.82143333 | C103: =SUM(C89:C90,C93,C98:C102) -> 2.2081 | D103: =SUM(D87:D102) -> 0.9738 | E103: =SUM(E87:E102) -> 0.6325
A104: Precio aconsejado | B104: =B103*$I$2 -> 3.2857333 | C104: =C103*$I$2 -> 8.8324 | D104: =D103*$I$2 -> 3.8952 | E104: =E103*$I$2 -> 2.53
A105: Precio real | B105: 3.8 | C105: 7.5 | D105: 4 | E105: 2.6
A106: Margen | B106: =B105-B103 -> 2.9785667 | C106: =C105-C103 -> 5.2919 | D106: =D105-D103 -> 3.0262 | E106: =E105-E103 -> 1.9675
A107: Margen relativo | B107: =B106/B105 -> 0.78383333 | C107: =C106/C105 -> 0.70558667 | D107: =D106/D105 -> 0.75655 | E107: =E106/E105 -> 0.75673077
A110: Helados artesanales | B110: Pequeño (80g) | C110: Grande (100g) | D110: Cono pequeño | E110: Cono grande | F110: Cubeta 500 ml | G110: Cubeta 1 L
A111: Helado | B111: ='Costes generales'!H4 -> 0.8 | C111: ='Costes generales'!H4*100/80 -> 1 | D111: ='Costes generales'!H4 -> 0.8 | E111: ='Costes generales'!H4*100/80 -> 1 | F111: ='Costes generales'!H4*5 -> 4 | G111: ='Costes generales'!H4*10 -> 8
...
